BEGIN:VCALENDAR
VERSION:2.0
PRODID:-//CISSS - ECPv6.15.20//NONSGML v1.0//EN
CALSCALE:GREGORIAN
METHOD:PUBLISH
X-WR-CALNAME:CISSS
X-ORIGINAL-URL:https://monfuturensante.com
X-WR-CALDESC:Évènements pour CISSS
REFRESH-INTERVAL;VALUE=DURATION:PT1H
X-Robots-Tag:noindex
X-PUBLISHED-TTL:PT1H
BEGIN:VTIMEZONE
TZID:America/Toronto
BEGIN:DAYLIGHT
TZOFFSETFROM:-0500
TZOFFSETTO:-0400
TZNAME:EDT
DTSTART:20250309T070000
END:DAYLIGHT
BEGIN:STANDARD
TZOFFSETFROM:-0400
TZOFFSETTO:-0500
TZNAME:EST
DTSTART:20251102T060000
END:STANDARD
BEGIN:DAYLIGHT
TZOFFSETFROM:-0500
TZOFFSETTO:-0400
TZNAME:EDT
DTSTART:20260308T070000
END:DAYLIGHT
BEGIN:STANDARD
TZOFFSETFROM:-0400
TZOFFSETTO:-0500
TZNAME:EST
DTSTART:20261101T060000
END:STANDARD
BEGIN:DAYLIGHT
TZOFFSETFROM:-0500
TZOFFSETTO:-0400
TZNAME:EDT
DTSTART:20270314T070000
END:DAYLIGHT
BEGIN:STANDARD
TZOFFSETFROM:-0400
TZOFFSETTO:-0500
TZNAME:EST
DTSTART:20271107T060000
END:STANDARD
END:VTIMEZONE
BEGIN:VEVENT
DTSTART;TZID=America/Toronto:20260514T120000
DTEND;TZID=America/Toronto:20260514T130000
DTSTAMP:20260424T084457
CREATED:20260205T141215Z
LAST-MODIFIED:20260401T130501Z
UID:21564-1778760000-1778763600@monfuturensante.com
SUMMARY:Midi-découverte: Des outils pour prendre soin de la santé des femmes autistes ou ayant une déficience intellectuelle
DESCRIPTION:Information sur la conférence\n\n\n\nDans le cadre du plan d’action en santé et bien-être des femmes 2020-2024\, le MSSS a donné à l’Institut universitaire en déficience intellectuelle et en trouble du spectre de l’autisme (IU DITSA rattaché au CIUSSS MCQ) le mandat de développer des outils ayant pour objectif de démystifier la prévention et le dépistage des infections transmissibles sexuellement et par le sang (ITSS)\, du cancer du col de l’utérus et du cancer du sein chez les femmes autistes ou ayant une déficience intellectuelle.  \n\n\n\nLa présentation exposera les éléments clés du projet et les nombreux outils de la trousse Prévention et dépistage au féminin\, développés tant pour les intervenants que les professionnels de la santé. \n\n\n\n\n\n\n\n\n\n\n\n\n\nConférencières | Priscilla Ménard\, agente de planification\, programmation et recherche (APPR) à l’Institut universitaire en déficience intellectuelle et en trouble du spectre de l’autisme (IU DITSA) rattaché au Centre intégré universitaire de santé et de services sociaux de la Mauricie-et-du-Centre-du-Québec (CIUSSS MCQ) et Jade Pelletier\, conseillère en soins infirmiers à la direction de la santé publique du CIUSSS MCQ. \n\n\n\n\n\n\n\n\n\n\n\nAnimée par Mme Valérie Marchand\, coordonnatrice clinico-administratif des continuums enfance-jeunesse au CISSS de Lanaudière.
URL:https://monfuturensante.com/evenement/midi-decouverte-des-outils-pour-prendre-soin-de-la-sante-des-femmes-autistes-ou-ayant-une-deficience-intellectuelle/
CATEGORIES:Midis-découvertes,Recherche
END:VEVENT
BEGIN:VEVENT
DTSTART;TZID=America/Toronto:20260611T120000
DTEND;TZID=America/Toronto:20260611T130000
DTSTAMP:20260424T084457
CREATED:20250925T160729Z
LAST-MODIFIED:20260312T171939Z
UID:19013-1781179200-1781182800@monfuturensante.com
SUMMARY:Midi-découverte: DENT-L'ACTION : une trajectoire innovante en dentisterie DI-TSA-DP
DESCRIPTION:Information sur la conférence\n\n\n\nDepuis 2023\, un partenariat a été mis sur pied entre le Centre hospitalier De Lanaudière\, la Direction des programmes déficience intellectuelle\, trouble du spectre de l’autisme et déficience physique (DDI-TSA-DP) ainsi que la Direction de santé publique (DSPublique)\, afin d’améliorer l’accès aux soins dentaires pour les personnes ayant une déficience intellectuelle (DI)\, un trouble du spectre de l’autisme (TSA) ou une déficience physique (DP). Cette clientèle\, particulièrement vulnérable aux complications buccodentaires et pour qui l’accès aux soins est souvent difficile\, peut vivre de l’inconfort pouvant entraîner des troubles du comportement. \n\n\n\nLes conférenciers présenteront les objectifs du projet DENT-L’ACTION\, en abordant les enjeux liés à la santé bucco-dentaire chez la clientèle DI-TSA-DP. Il sera aussi question de la mise en place d’une trajectoire de soins optimisée ainsi que des méthodes et outils d’accompagnement visant à soutenir efficacement les usagers tout au long de leur parcours\, notamment grâce à l’utilisation de la trousse de désensibilisation. \n\n\n\n\n\n\n\n\n\n\n\n\n\n\n\nConférenciers | Émilie Boisvert\, cheffe en réadaptation Adultes-Aînés DI-TSA (MRC de l’Assomption et d’Autray)\, diplômée en ergothérapie (2012) et gestionnaire en DI-TSA depuis 2020 et Dr Philippe Martin\, dentiste généraliste avec une pratique limitée en dentisterie hospitalière\, en désordres temporo-mandibulaires et en apnée du sommeil\, chef du Service dentaire CHDL et chef du Programme québécois de soins buccodentaires et de soins d’hygiène quotidiens de la bouche (PQSBHB) du Nord de Lanaudière. \n\n\n\n\n\n\n\n\n\n\n\nAnimée par Mme Véronique Masse\, directrice adjointe des programmes déficience intellectuelle\, trouble du spectre de l’autisme et déficience physique (DDI-TSA-DP).
URL:https://monfuturensante.com/evenement/midi-decouverte-dent-laction-une-trajectoire-innovante-en-dentisterie-di-tsa-dp/
END:VEVENT
END:VCALENDAR